BEGIN:VCALENDAR
VERSION:2.0
PRODID:-//Hastings &amp; St Leonards Society - ECPv4.9.13//NONSGML v1.0//EN
CALSCALE:GREGORIAN
METHOD:PUBLISH
X-WR-CALNAME:Hastings &amp; St Leonards Society
X-ORIGINAL-URL:http://hastingsandstleonardssociety.org.uk
X-WR-CALDESC:Events for Hastings &amp; St Leonards Society
BEGIN:VTIMEZONE
TZID:Europe/London
BEGIN:DAYLIGHT
TZOFFSETFROM:+0000
TZOFFSETTO:+0100
TZNAME:BST
DTSTART:20220327T010000
END:DAYLIGHT
BEGIN:STANDARD
TZOFFSETFROM:+0100
TZOFFSETTO:+0000
TZNAME:GMT
DTSTART:20221030T010000
END:STANDARD
END:VTIMEZONE
BEGIN:VEVENT
DTSTART;TZID=Europe/London:20220128T193000
DTEND;TZID=Europe/London:20220128T213000
DTSTAMP:20260421T173404
CREATED:20211123T084111Z
LAST-MODIFIED:20211123T084517Z
UID:1015-1643398200-1643405400@hastingsandstleonardssociety.org.uk
SUMMARY:Hastings Philharmonic Orchestra Concert
DESCRIPTION:For more details please see here – https://www.hastingsphilorchestra.co.uk/28th-january \nFeaturing – \nWAGNER Tannhäuser Overture\nBEAL Symphony No. 10 (World Premiere)\n-Interval-\nHARRISON Bredon Hill\nRACHMANINOFF Piano Concerto No 3 \nOver one hundred years ago Hastings was proud to support a professional orchestra\, which regularly performed high-quality classical music concerts with international soloists under the baton of renowned conductors. \nJulius Harrison (composer of Bredon Hill) became conductor of the Hastings Municipal Orchestra in 1930. In Hastings he ran an annual festival and\, during the summer season\, conducting up to twelve concerts a week. He raised the standard of the orchestra to challenge that of its south-coast rival\, the Bournemouth Municipal Orchestra\, securing the services of guest artists including the conductors Sir Henry Wood and Sir Adrian Boult\, pianists such as Clifford Curzon and Benno Moiseiwitsch and singers including George Baker. When the Hastings orchestra was disbanded after the outbreak of the Second World War Harrison became director of music at Malvern College (1940-2). \nBredon Hill\, was composed just after Harrison left his Hastings post. \n
URL:http://hastingsandstleonardssociety.org.uk/event/hastings-philharmonic-orchestra-concert/
LOCATION:White Rock Theatre\, White Rock\, Hastings\, TN34 1JX\, United Kingdom
CATEGORIES:Classical,Concerts,Society Meetings
ORGANIZER;CN="Hastings%20Philharmonic%20Orchestra":MAILTO:info@hastingsphilorchestra.co.uk
END:VEVENT
END:VCALENDAR